BEGIN:VCALENDAR
VERSION:2.0
PRODID:-//ChamberMaster//Event Calendar 2.0//EN
METHOD:PUBLISH
X-PUBLISHED-TTL:P1H
REFRESH-INTERVAL:P1H
CALSCALE:GREGORIAN
BEGIN:VTIMEZONE
TZID:America/New_York
BEGIN:DAYLIGHT
RRULE:FREQ=YEARLY;BYMONTH=3;BYDAY=2SU
DTSTART:20070101T000000
TZOFFSETFROM:-0500
TZOFFSETTO:-0400
TZNAME:Eastern Daylight Time
END:DAYLIGHT
BEGIN:STANDARD
RRULE:FREQ=YEARLY;BYMONTH=11;BYDAY=1SU
DTSTART:20070101T000000
TZOFFSETFROM:-0400
TZOFFSETTO:-0500
TZNAME:Eastern Standard Time
END:STANDARD
END:VTIMEZONE
BEGIN:VEVENT
DTSTART;TZID=America/New_York:20260514T060000
DTEND;TZID=America/New_York:20260514T180000
X-MICROSOFT-CDO-ALLDAYEVENT:FALSE
SUMMARY:18th Annual Pints for Play Blood Drive Hosted by SunCoast Blood Centers in partnership with 107.9 WSRZ
DESCRIPTION:18th Annual Pints for Play Blood Drive Hosted by SunCoast Blood Centers in partnership with 107.9 WSRZ Join us for one of the biggest and most impactful blood drives of the year. Pints for Play is back a 12-hour radiothon dedicated to saving lives in our community. For the first time\, you can donate at any of our six donor centers\, making it easier than ever to give close to home. Thursday\, May 14 6:00 AM   6:00 PM Six SunCoast Blood Centers locations from Parrish to Port Charlotte When you donate\, you're helping patients who rely on blood every single day. All donors will receive:   $30 instant e-gift card   Pints for Play T-shirt (while supplies last)   Your choice of:   A song request on 107.9 WSRZ   A plug for your business on 107.9 WSRZ   A Pints for Play tumbler Plus: All donors are entered for a chance to win part of $1\,500 in gas gift cards. Can't make it on May 14? Donate May 11 13 and still be entered for a chance to win. Learn more & schedule your appointment: https://suncoastblood.org/18th-annual-pints-for-play-may-14th-2026/
X-ALT-DESC;FMTTYPE=text/html:<!DOCTYPE html><html><head><title></title></head><body aria-disabled="false"><p>18th Annual Pints for Play Blood Drive Hosted by SunCoast Blood Centers in partnership with 107.9 WSRZ Join us for one of the biggest and most impactful blood drives of the year. Pints for Play is back&mdash\;a 12-hour radiothon dedicated to saving lives in our community. For the first time\, you can donate at any of our six donor centers\, making it easier than ever to give close to home. Thursday\, May 14 6:00 AM &ndash\; 6:00 PM Six SunCoast Blood Centers locations from Parrish to Port Charlotte When you donate\, you&rsquo\;re helping patients who rely on blood every single day. All donors will receive: &bull\; $30 instant e-gift card &bull\; Pints for Play T-shirt (while supplies last) &bull\; Your choice of: &ndash\; A song request on 107.9 WSRZ &ndash\; A plug for your business on 107.9 WSRZ &ndash\; A Pints for Play tumbler Plus: All donors are entered for a chance to win part of $1\,500 in gas gift cards. Can&rsquo\;t make it on May 14? Donate May 11&ndash\;13 and still be entered for a chance to win. Learn more &amp\; schedule your appointment: https://suncoastblood.org/18th-annual-pints-for-play-may-14th-2026/</p></body></html>
LOCATION:1760 Mound Street 3025 Lakewood Ranch Blvd Sarasota FL 34236
UID:e.4175.1450286
SEQUENCE:3
DTSTAMP:20260424T014258Z
URL:https://web.sarasotachamber.com/chamber-calendar/Details/18th-annual-pints-for-play-blood-drive-hosted-by-suncoast-blood-centers-in-partnership-with-107-9-wsrz-1717866?sourceTypeId=Hub
END:VEVENT
END:VCALENDAR
