BEGIN:VCALENDAR
VERSION:2.0
PRODID:-//ChamberMaster//Event Calendar 2.0//EN
METHOD:PUBLISH
X-PUBLISHED-TTL:P1H
REFRESH-INTERVAL:P1H
CALSCALE:GREGORIAN
BEGIN:VTIMEZONE
TZID:America/New_York
BEGIN:DAYLIGHT
RRULE:FREQ=YEARLY;BYMONTH=3;BYDAY=2SU
DTSTART:20070101T000000
TZOFFSETFROM:-0500
TZOFFSETTO:-0400
TZNAME:Eastern Daylight Time
END:DAYLIGHT
BEGIN:STANDARD
RRULE:FREQ=YEARLY;BYMONTH=11;BYDAY=1SU
DTSTART:20070101T000000
TZOFFSETFROM:-0400
TZOFFSETTO:-0500
TZNAME:Eastern Standard Time
END:STANDARD
END:VTIMEZONE
BEGIN:VEVENT
DTSTART;TZID=America/New_York:20260425T110000
DTEND;TZID=America/New_York:20260425T140000
X-MICROSOFT-CDO-ALLDAYEVENT:FALSE
SUMMARY:Meet and Greet with Co-Owner and Tampa Bay Buccaneer Kenny Gainwell!
DESCRIPTION:Raining Berries Southside Village is hosting a meet and greet with our co-owner Kenny Gainwell\, who recently signed with the Tampa Bay Bucs! We are excited to invite members to join for photos\, good food and drinks\, as well as conversation with Kenny!
X-ALT-DESC;FMTTYPE=text/html:Raining Berries Southside Village is hosting a meet and greet with our co-owner Kenny Gainwell\, who recently signed with the Tampa Bay Bucs! We are excited to invite members to join for photos\, good food and drinks\, as well as conversation with Kenny!
LOCATION:1935 S Osprey Ave Sarasota FL 34239
UID:e.4175.1448096
SEQUENCE:3
DTSTAMP:20260424T014542Z
URL:https://web.sarasotachamber.com/chamber-calendar/Details/meet-and-greet-with-co-owner-and-tampa-bay-buccaneer-kenny-gainwell-1715099?sourceTypeId=Hub
END:VEVENT
END:VCALENDAR
